BEGIN:VCALENDAR
VERSION:2.0
PRODID:-//holynativitypayson.org//eCatholic//EN
X-WR-TIMEZONE:LocalTZ
BEGIN:VTIMEZONE
TZID:LocalTZ
X-LIC-LOCATION:LocalTZ
BEGIN:DAYLIGHT
TZOFFSETFROM:-0700
TZOFFSETTO:-0700
TZNAME:LocalTZ
DTSTART:19700308T020000
RRULE:FREQ=YEARLY;BYMONTH=3;BYDAY=2SU
END:DAYLIGHT
BEGIN:STANDARD
TZOFFSETFROM:-0700
TZOFFSETTO:-0700
TZNAME:LocalTZ
DTSTART:19701101T020000
RRULE:FREQ=YEARLY;BYMONTH=11;BYDAY=1SU
END:STANDARD
END:VTIMEZONE
BEGIN:VEVENT
UID:1441140@holynativitypayson.org
DTSTAMP:20260424T192600Z
DTSTART:20260429T110000
DTEND:20260429T120000
RRULE:FREQ=WEEKLY;BYDAY=WE
EXDATE:20241204T110000,20241225T110000,20250101T110000,20251224T110000
SUMMARY:Mid week study
DESCRIPTION:Book Study All are welcome
END:VEVENT
BEGIN:VEVENT
UID:2476354@holynativitypayson.org
DTSTAMP:20260424T192600Z
DTSTART:20260521T180000
DTEND:20260521T200000
RRULE:FREQ=MONTHLY;BYDAY=TH;BYSETPOS=3
EXDATE:20240815T180000,20250417T180000,20260319T180000
SUMMARY:Men's Group
DESCRIPTION:The Holy Nativity Men's Group meets every 3rd Thursday in the 
 Parish Hall.
END:VEVENT
BEGIN:VEVENT
UID:2476355@holynativitypayson.org
DTSTAMP:20260424T192600Z
DTSTART:20260516T100000
DTEND:20260516T110000
RRULE:FREQ=MONTHLY;BYDAY=SA;BYSETPOS=3
EXDATE:20250517T100000
SUMMARY:Women's Gospel Encounter Group
DESCRIPTION:The Women's Gospel Encounter group meets every 1st & 3rd Satur
 day
END:VEVENT
BEGIN:VEVENT
UID:2476356@holynativitypayson.org
DTSTAMP:20260424T192600Z
DTSTART:20260502T100000
DTEND:20260502T110000
RRULE:FREQ=MONTHLY;BYDAY=SA;BYSETPOS=1
SUMMARY:Women's Gospel Encounter Group
END:VEVENT
BEGIN:VEVENT
UID:2479830@holynativitypayson.org
DTSTAMP:20260424T192600Z
DTSTART:20260426T080000
DTEND:20260426T090000
RRULE:FREQ=WEEKLY;BYDAY=SU
SUMMARY:Mass
END:VEVENT
BEGIN:VEVENT
UID:2480769@holynativitypayson.org
DTSTAMP:20260424T192600Z
DTSTART:20260426T100000
DTEND:20260426T110000
RRULE:FREQ=WEEKLY;BYDAY=SU
EXDATE:20260329T100000
SUMMARY:Mass
END:VEVENT
BEGIN:VEVENT
UID:2480840@holynativitypayson.org
DTSTAMP:20260424T192600Z
DTSTART:20260424T120000
DTEND:20260424T130000
RRULE:FREQ=WEEKLY;BYDAY=FR
EXDATE:20250418T120000,20260403T120000
SUMMARY:Mass
END:VEVENT
BEGIN:VEVENT
UID:2480842@holynativitypayson.org
DTSTAMP:20260424T192600Z
DTSTART:20260428T120000
DTEND:20260428T130000
RRULE:FREQ=WEEKLY;BYDAY=TU
EXDATE:20241224T120000
SUMMARY:Mass
END:VEVENT
BEGIN:VEVENT
UID:2480843@holynativitypayson.org
DTSTAMP:20260424T192600Z
DTSTART:20260429T100000
DTEND:20260429T110000
RRULE:FREQ=WEEKLY;BYDAY=WE
EXDATE:20241225T100000,20250305T100000,20251224T100000,20260218T100000
SUMMARY:Mass
END:VEVENT
BEGIN:VEVENT
UID:2480844@holynativitypayson.org
DTSTAMP:20260424T192600Z
DTSTART:20260430T120000
DTEND:20260430T130000
RRULE:FREQ=WEEKLY;BYDAY=TH
EXDATE:20250417T120000,20250529T120000,20251225T120000,20260101T120000,202
 60305T120000,20260402T120000
SUMMARY:Mass
END:VEVENT
BEGIN:VEVENT
UID:2480845@holynativitypayson.org
DTSTAMP:20260424T192600Z
DTSTART:20260428T110000
DTEND:20260428T120000
RRULE:FREQ=WEEKLY;BYDAY=TU
EXDATE:20241224T110000
SUMMARY:Holy Hour
END:VEVENT
BEGIN:VEVENT
UID:2480846@holynativitypayson.org
DTSTAMP:20260424T192600Z
DTSTART:20260429T090000
DTEND:20260429T100000
RRULE:FREQ=WEEKLY;BYDAY=WE
EXDATE:20251224T090000
SUMMARY:Holy Hour
END:VEVENT
BEGIN:VEVENT
UID:2480847@holynativitypayson.org
DTSTAMP:20260424T192600Z
DTSTART:20260430T110000
DTEND:20260430T120000
RRULE:FREQ=WEEKLY;BYDAY=TH
EXDATE:20250417T110000,20251225T110000,20260101T110000,20260402T110000
SUMMARY:Holy Hour
END:VEVENT
BEGIN:VEVENT
UID:3028809@holynativitypayson.org
DTSTAMP:20260424T192600Z
DTSTART:20260425T180000
DTEND:20260425T190000
RRULE:FREQ=WEEKLY;UNTIL=20261227;BYDAY=SA
EXDATE:20260328T180000,20260404T180000
SUMMARY:Vigil Mass
END:VEVENT
END:VCALENDAR
